BEGIN:VCALENDAR
VERSION:2.0
PRODID:icalendar-ruby
CALSCALE:GREGORIAN
METHOD:PUBLISH
BEGIN:VEVENT
DTSTAMP:20260423T015838Z
UID:35-346062@asburyag.com
DTSTART:20261025T140000Z
DTEND:20261025T150000Z
CLASS:PUBLIC
CREATED:20260422T202640
DESCRIPTION:Join us for Sunday Worship at Asbury Church Dryden at 10am. Enj
 oy engaging worship\, biblical teaching\, and a welcoming\, family-friendl
 y environment with kids ministry available.
LAST-MODIFIED:20260422T202640
LOCATION:Dryden Campus: 87 W Main St. Dryden NY
SUMMARY:Sunday Worship Service: Dryden Campus
URL;VALUE=URI:https://asburyag.com/events/sunday-worship-service-dryden-cam
 pus/2026-10-25
END:VEVENT
END:VCALENDAR
