BEGIN:VCALENDAR
VERSION:2.0
PRODID:icalendar-ruby
CALSCALE:GREGORIAN
METHOD:PUBLISH
BEGIN:VEVENT
DTSTAMP:20260423T030411Z
UID:11-345904@asburyag.com
DTSTART:20261101T133000Z
DTEND:20261101T143000Z
CLASS:PUBLIC
CREATED:20260422T202640
DESCRIPTION:Servicio en Español
LAST-MODIFIED:20260422T202640
LOCATION:Campus de Lansing
SUMMARY:Servicio en Español
URL;VALUE=URI:https://asburyag.com/events/servicio-en-espanol/2026-11-01
END:VEVENT
END:VCALENDAR
