BEGIN:VCALENDAR
VERSION:2.0
PRODID:icalendar-ruby
CALSCALE:GREGORIAN
METHOD:PUBLISH
BEGIN:VEVENT
DTSTAMP:20260423T015110Z
UID:11-345903@asburyag.com
DTSTART:20261025T123000Z
DTEND:20261025T133000Z
CLASS:PUBLIC
CREATED:20260422T202640
DESCRIPTION:Servicio en Español
LAST-MODIFIED:20260422T202640
LOCATION:Campus de Lansing
SUMMARY:Servicio en Español
URL;VALUE=URI:https://asburyag.com/events/servicio-en-espanol/2026-10-25
END:VEVENT
END:VCALENDAR
