BEGIN:VCALENDAR
VERSION:2.0
PRODID:icalendar-ruby
CALSCALE:GREGORIAN
METHOD:PUBLISH
BEGIN:VEVENT
DTSTAMP:20260423T003331Z
UID:22-346031@asburyag.com
DTSTART:20261015T223000Z
DTEND:20261015T233000Z
CLASS:PUBLIC
CREATED:20260422T202640
DESCRIPTION:Weekly Bible Study - Dryden
LAST-MODIFIED:20260422T202640
LOCATION:Dryden Campus
SUMMARY:Grow Thursday - Dryden
URL;VALUE=URI:https://asburyag.com/events/grow-thursday-dryden/2026-10-15
END:VEVENT
END:VCALENDAR
