BEGIN:VCALENDAR
VERSION:2.0
PRODID:icalendar-ruby
CALSCALE:GREGORIAN
METHOD:PUBLISH
BEGIN:VEVENT
DTSTAMP:20260422T185051Z
UID:22-345622@asburyag.com
DTSTART:20260917T223000Z
DTEND:20260917T233000Z
CLASS:PUBLIC
CREATED:20260422T143948
DESCRIPTION:Weekly Bible Study - Dryden
LAST-MODIFIED:20260422T143948
LOCATION:Dryden Campus
SUMMARY:Grow Thursday - Dryden
URL;VALUE=URI:https://asburyag.com/events/grow-thursday-dryden/2026-09-17
END:VEVENT
END:VCALENDAR
