BEGIN:VCALENDAR
VERSION:2.0
PRODID:icalendar-ruby
CALSCALE:GREGORIAN
METHOD:PUBLISH
BEGIN:VEVENT
DTSTAMP:20260422T142126Z
UID:22-345215@asburyag.com
DTSTART:20260827T223000Z
DTEND:20260827T233000Z
CLASS:PUBLIC
CREATED:20260422T085003
DESCRIPTION:Weekly Bible Study - Dryden
LAST-MODIFIED:20260422T085003
LOCATION:Dryden Campus
SUMMARY:Grow Thursday - Dryden
URL;VALUE=URI:https://asburyag.com/events/grow-thursday-dryden/2026-08-27
END:VEVENT
END:VCALENDAR
