BEGIN:VCALENDAR
VERSION:2.0
PRODID:icalendar-ruby
CALSCALE:GREGORIAN
METHOD:PUBLISH
BEGIN:VEVENT
DTSTAMP:20260422T083244Z
UID:22-345009@asburyag.com
DTSTART:20260730T223000Z
DTEND:20260730T233000Z
CLASS:PUBLIC
CREATED:20260421T214107
DESCRIPTION:Weekly Bible Study - Dryden
LAST-MODIFIED:20260421T214107
LOCATION:Dryden Campus
SUMMARY:Grow Thursday - Dryden
URL;VALUE=URI:https://asburyag.com/events/grow-thursday-dryden/2026-07-30
END:VEVENT
END:VCALENDAR
