BEGIN:VCALENDAR
VERSION:2.0
PRODID:icalendar-ruby
CALSCALE:GREGORIAN
METHOD:PUBLISH
BEGIN:VEVENT
DTSTAMP:20260422T213656Z
UID:21-345786@asburyag.com
DTSTART:20261014T223000Z
DTEND:20261014T233000Z
CLASS:PUBLIC
CREATED:20260422T173523
DESCRIPTION:Family Night - Lansing
LAST-MODIFIED:20260422T173523
LOCATION:Lansing Campus
SUMMARY:Family Night - Lansing
URL;VALUE=URI:https://asburyag.com/events/family-night-lansing/2026-10-14
END:VEVENT
END:VCALENDAR
